BEGIN:VCALENDAR
VERSION:2.0
PRODID:-//wp-events-plugin.com//7.2.3.1//EN
TZID:America/New_York
X-WR-TIMEZONE:America/New_York
BEGIN:VEVENT
UID:58@blueashchamber.com
DTSTART;TZID=America/New_York:20260507T113000
DTEND;TZID=America/New_York:20260507T133000
DTSTAMP:20260420T213303Z
URL:https://blueashchamber.com/events/blue-ash-chamber-luncheon-may-2026/
SUMMARY:May Business Luncheon at the Summit of Blue Ash
DESCRIPTION:Join the Blue Ash Chamber for a business luncheon with networki
 ng before a special guest presentation from Auditor Dorinda Byers from the
  State of Ohio Auditor's office.\n\nThe event is now being held at the Sum
 mit of Blue Ash.\n\nRegistration: $15 for Members\; $35 for Guests
ATTACH;FMTTYPE=image/jpeg:https://blueashchamber.com/wp-content/uploads/20
 25/12/summit-of-blue-ash-scaled.jpg
LOCATION:The Summit of Blue Ash (Formerly Anthology)\, 4351 Sycamore Creek 
 Dr\, Blue Ash\, Ohio\, 45242\, United States
GEO:39.248261;-84.385476
X-APPLE-STRUCTURED-LOCATION;VALUE=URI;X-ADDRESS=4351 Sycamore Creek Dr\, Bl
 ue Ash\, Ohio\, 45242\, United States;X-APPLE-RADIUS=100;X-TITLE=The Summi
 t of Blue Ash (Formerly Anthology):geo:39.248261,-84.385476
END:VEVENT
BEGIN:VTIMEZONE
TZID:America/New_York
X-LIC-LOCATION:America/New_York
BEGIN:DAYLIGHT
DTSTART:20260308T030000
TZOFFSETFROM:-0500
TZOFFSETTO:-0400
TZNAME:EDT
END:DAYLIGHT
END:VTIMEZONE
END:VCALENDAR